BEGIN:VCALENDAR
VERSION:2.0
PRODID:icalendar-ruby
CALSCALE:GREGORIAN
BEGIN:VEVENT
DTSTAMP:20260423T010445Z
UID:f8b0d780-4478-4cbb-8bbd-275b787d97c5
DTSTART:20260331T123000
DTEND:20260331T133000
LOCATION:5105 IRB
SUMMARY:Jeremy Sha - Safe Memory Access on Coarse-Grain Reconfigurable Arra
 ys
URL;VALUE=URI:https://talks.cs.umd.edu/talks/4547
END:VEVENT
END:VCALENDAR
