BEGIN:VCALENDAR
VERSION:2.0
PRODID:icalendar-ruby
CALSCALE:GREGORIAN
BEGIN:VEVENT
DTSTAMP:20260422T194730Z
UID:48e19560-d0a2-47b3-a548-ab8a9a83d627
DTSTART:20260415T090000
DTEND:20260415T110000
LOCATION:
SUMMARY:Souradip Chakraborty - Principled Frameworks for AI Alignment: From
  Post-Training to Inference
URL;VALUE=URI:https://talks.cs.umd.edu/talks/4588
END:VEVENT
END:VCALENDAR
