BEGIN:VCALENDAR
VERSION:2.0
PRODID:icalendar-ruby
CALSCALE:GREGORIAN
BEGIN:VEVENT
DTSTAMP:20260423T010446Z
UID:f41a15bc-d00a-4dbf-8946-7a549f22d85f
DTSTART:20260414T123000
DTEND:20260414T133000
LOCATION:5105 IRB
SUMMARY:Miuyin Yong - The Impact of Emerging AI Practices on the Cybersecur
 ity Workforce
URL;VALUE=URI:https://talks.cs.umd.edu/talks/4589
END:VEVENT
END:VCALENDAR
