BEGIN:VCALENDAR
VERSION:2.0
PRODID:icalendar-ruby
CALSCALE:GREGORIAN
BEGIN:VEVENT
DTSTAMP:20260419T124719Z
UID:1024a797-b920-48d2-a626-c95da9a2c30a
DTSTART:20260421T110000
DTEND:20260421T120000
LOCATION:IRB 4105 or https://umd.zoom.us/j/93666933047?pwd=gWgqOgGbBP6laZcl
 yURdDG2mNdArBt.1
SUMMARY:Michael Feffer - AI Alignment through Participation and Evaluation:
  Promises and Pitfalls
URL;VALUE=URI:https://talks.cs.umd.edu/talks/4591
END:VEVENT
END:VCALENDAR
