BEGIN:VCALENDAR
VERSION:2.0
PRODID:icalendar-ruby
CALSCALE:GREGORIAN
BEGIN:VEVENT
DTSTAMP:20260423T194102Z
UID:b28adecc-3478-4130-99c3-1838ea6c1edd
DTSTART:20260427T110000
DTEND:20260427T120000
LOCATION:IRB 4105 or https://umd.zoom.us/j/93666933047?pwd=gWgqOgGbBP6laZcl
 yURdDG2mNdArBt.1
SUMMARY:Tal Linzen - Cognitive science for\, and using\, large language mod
 els
URL;VALUE=URI:https://talks.cs.umd.edu/talks/4601
END:VEVENT
END:VCALENDAR
