BEGIN:VCALENDAR
VERSION:2.0
PRODID:icalendar-ruby
CALSCALE:GREGORIAN
BEGIN:VEVENT
DTSTAMP:20260423T010445Z
UID:d17c1336-ba8e-4503-990d-2d6c3ca464c2
DTSTART:20260429T133000
DTEND:20260429T143000
LOCATION:IRB 4105 or https://umd.zoom.us/j/93666933047?pwd=gWgqOgGbBP6laZcl
 yURdDG2mNdArBt.1
SUMMARY:Patrick Shafto - Trust and the future of mathematics\, software\, a
 nd science
URL;VALUE=URI:https://talks.cs.umd.edu/talks/4602
END:VEVENT
END:VCALENDAR
