BEGIN:VCALENDAR
VERSION:2.0
PRODID:icalendar-ruby
CALSCALE:GREGORIAN
BEGIN:VEVENT
DTSTAMP:20260423T194057Z
UID:360ad7c0-3b3d-4bf9-b433-d3a69e965e02
DTSTART:20260430T110000
DTEND:20260430T120000
LOCATION:IRB 4105 or https://umd.zoom.us/j/93666933047?pwd=gWgqOgGbBP6laZcl
 yURdDG2mNdArBt.1
SUMMARY:Chenyu You  - Robust Machine Learning for Biomedical Data: Efficien
 cy\, Reliability\, and Generalizability  
URL;VALUE=URI:https://talks.cs.umd.edu/talks/4603
END:VEVENT
END:VCALENDAR
