BEGIN:VCALENDAR
VERSION:2.0
PRODID:icalendar-ruby
CALSCALE:GREGORIAN
BEGIN:VEVENT
DTSTAMP:20260423T194053Z
UID:1a07a063-9c43-4c0e-8b4f-c8f42c059852
DTSTART:20260423T080000
DTEND:20260423T100000
LOCATION:[Remote] https://umd.zoom.us/my/varshney
SUMMARY:Hyemi Song - Speech-Driven Immersive Analytics: GenAI-grounded Sens
 emaking Perspective
URL;VALUE=URI:https://talks.cs.umd.edu/talks/4605
END:VEVENT
END:VCALENDAR
